BEGIN:VCALENDAR
VERSION:2.0
PRODID:spatie/icalendar-generator
NAME:Nivon Activiteit
X-WR-CALNAME:Nivon Activiteit
BEGIN:VTIMEZONE
TZID:UTC
BEGIN:STANDARD
DTSTART:20250723T160742
TZOFFSETFROM:+0000
TZOFFSETTO:+0000
END:STANDARD
END:VTIMEZONE
BEGIN:VEVENT
UID:69e4fdce640d4
DTSTAMP:20260419T160742Z
SUMMARY:[De Kleine Rug] Groenonderhoud
DESCRIPTION:Kom je ons helpen?
LOCATION:De Kleine Rug - GPS: Loswalweg 2\, 3315 LB Dordrecht.
DTSTART:20260421T090000Z
DTEND:20260421T130000Z
END:VEVENT
END:VCALENDAR