BEGIN:VCALENDAR
VERSION:2.0
PRODID:spatie/icalendar-generator
NAME:Nivon Activiteit
X-WR-CALNAME:Nivon Activiteit
BEGIN:VTIMEZONE
TZID:UTC
BEGIN:STANDARD
DTSTART:20250727T103956
TZOFFSETFROM:+0000
TZOFFSETTO:+0000
END:STANDARD
END:VTIMEZONE
BEGIN:VEVENT
UID:69e9f6fccd326
DTSTAMP:20260423T103956Z
SUMMARY:[De Kleine Rug] Knutselen met dingen uit de natuur
DESCRIPTION:Kom je ook?
LOCATION:De Kleine Rug - Navigeer op Loswalweg 2\, 3315 LB Dordrecht
DTSTART:20260607T113000Z
DTEND:20260607T000000Z
END:VEVENT
END:VCALENDAR