BEGIN:VCALENDAR
VERSION:2.0
PRODID:spatie/icalendar-generator
NAME:Nivon Activiteit
X-WR-CALNAME:Nivon Activiteit
BEGIN:VTIMEZONE
TZID:UTC
BEGIN:STANDARD
DTSTART:20250723T144140
TZOFFSETFROM:+0000
TZOFFSETTO:+0000
END:STANDARD
END:VTIMEZONE
BEGIN:VEVENT
UID:69e4e9a4c319e
DTSTAMP:20260419T144140Z
SUMMARY:[De Kleine Rug] Mindfulness arrangement
DESCRIPTION:Kom je ook?
LOCATION:De Kleine Rug - Navigeer op Loswalweg 2\, 3315 LB Dordrecht
DTSTART:20260601T130000Z
DTEND:20260603T140000Z
END:VEVENT
END:VCALENDAR