BEGIN:VCALENDAR
VERSION:2.0
PRODID:spatie/icalendar-generator
NAME:Nivon Activiteit
X-WR-CALNAME:Nivon Activiteit
BEGIN:VTIMEZONE
TZID:UTC
BEGIN:STANDARD
DTSTART:20250727T103613
TZOFFSETFROM:+0000
TZOFFSETTO:+0000
END:STANDARD
END:VTIMEZONE
BEGIN:VEVENT
UID:69e9f61d11351
DTSTAMP:20260423T103613Z
SUMMARY:[De Kleine Rug] Open dag De Kleine Rug
DESCRIPTION:Kom je ook?
LOCATION:De Kleine Rug - Navigeer op Loswalweg 2\, 3315 LB Dordrecht
DTSTART:20260607T110000Z
DTEND:20260607T150000Z
END:VEVENT
END:VCALENDAR