BEGIN:VCALENDAR
VERSION:2.0
PRODID:spatie/icalendar-generator
NAME:Nivon Activiteit
X-WR-CALNAME:Nivon Activiteit
BEGIN:VTIMEZONE
TZID:UTC
BEGIN:STANDARD
DTSTART:20250723T142230
TZOFFSETFROM:+0000
TZOFFSETTO:+0000
END:STANDARD
END:VTIMEZONE
BEGIN:VEVENT
UID:69e4e5264a547
DTSTAMP:20260419T142230Z
SUMMARY:[De Kleine Rug] Wilgen knotten
DESCRIPTION:Kom je ook?
LOCATION:De Kleine Rug - Navigeer op Loswalweg 2\, 3315 LB Dordrecht
DTSTART:20261220T090000Z
DTEND:20261220T150000Z
END:VEVENT
END:VCALENDAR